BEGIN:VCALENDAR
VERSION:2.0
PRODID:-//wp-events-plugin.com//7.2.3.1//EN
BEGIN:VEVENT
UID:13@hoffdietanzschule.de
DTSTART;TZID=Europe/Berlin:20211127T190000
DTEND;TZID=Europe/Berlin:20211128T003000
DTSTAMP:20220618T055756Z
URL:https://hoffdietanzschule.de/events/abschlussball-27-11-2021/
SUMMARY:Abschlussball 27.11.2021
DESCRIPTION:Der Premierenball von Hoff die Tanzschule:\n\n&nbsp\;\n\nDer Ba
 ll im Überblick:\n\n 	Großer Höhepunkt des Grundkurses\n 	Gala Buffet (
 Getränke exklusiv)\n 	Tanzmusik\n 	Tanzshows\n 	Parkplätze direkt vor de
 r Tür\n 	Ein einmaliger Abend\n 	Wundervolles Panorama\n 	Feierliche Übe
 rgabe der Zertifikate für moderne Umgangsformen\n 	Tickets ab 29€\n 	Ih
 re Zeit ist uns das Wertvollste.\n 	Geniessen Sie einen unvergesslichen Ab
 end bei uns.\n\nDie Schützenhalle in Usseln:\n\n\n\nDie Adresse wenn es u
 m einen gelungenen Abend geht. Eine klare Architektur im Festsaal\, wird m
 it stimmungsvollen Farben arrangiert. Die passende Musik gibt dem Abend ei
 nen einzigartigen Charme und natürlich ist auch für das leibliche Wohl g
 esorgt.\n\n&nbsp\;\n\n\nDas leibliche Wohl: \nMit einem großen Buffet\, 
 welches natürlich in jedem Kartenpreis inklusive ist\, wird der Abend zum
  Kulinarischen Highlight. Abwechslungsreiche Speisen\, die wirklich jeden 
 Gaumen verwöhnen werden\, sorgen für einen runden Abend.\n\nGut ist hier
  nicht gut genug!\n\n\n\nDer wunderschöne Parkettboden lädt den ganzen A
 bend zum Tanzen ein. \n\nDie Jugendlichen zeigen was sie gelernt haben und
  selbstverständlich sollen auch Sie den ganzen Abend viel tanzen.\n\nTanz
 shows:\n\nZusätzlich haben wir tolle Tanzshows für Sie vorbereitet\, die
  Ihnen den Aufenthalt mit Tanz und Akrobatik verschönern. Was genau das s
 ein wird ist natürlich eine Überraschung.\n\n\n\nParken:\n\nFür Parkpl
 ätze ist natürlich gesorgt. Diese finden Sie direkt vor dem Haus.\n\nCor
 ona Hygiene Konzept:\n\nNatürlich haben wir die aktuelle Situation im Bli
 ck und natürlich im Griff. Wir haben ein ganz ausführliches Hygienekonze
 pt erarbeitet und werden diesem akribisch nachkommen. Sie brauchen sich ab
 er im Grunde nur verhalten als würden Sie ein Restaurant mit toller Garde
 robe und einem unvergesslichen Abend besuchen. Maskenpflicht herrscht nat
 ürlich bei Betreten der Halle und ebenfalls bitten wir um Ihre Mithilfe u
 m den Abend gemeinsam unvergesslich zu gestalten.\n\nWir freuen uns auf ei
 nen wundervollen Abend mit Ihnen.\n\n&nbsp\;\n\nSaalplan:\n\n&nbsp\;\n\n
ATTACH;FMTTYPE=image/jpeg:https://hoffdietanzschule.de/wp-content/uploads/
 2018/05/IMG_5306_0.jpeg
CATEGORIES:Tanzball
LOCATION:Schützenhalle Usseln\, Sportstrasse 7\, Willingen\, Hessen\, 3450
 8\, Deutschland
GEO:51.28174;8.66288
X-APPLE-STRUCTURED-LOCATION;VALUE=URI;X-ADDRESS=Sportstrasse 7\, Willingen\
 , Hessen\, 34508\, Deutschland;X-APPLE-RADIUS=100;X-TITLE=Schützenhalle U
 sseln:geo:51.28174,8.66288
END:VEVENT
BEGIN:VTIMEZONE
TZID:Europe/Berlin
X-LIC-LOCATION:Europe/Berlin
BEGIN:STANDARD
DTSTART:20211031T020000
TZOFFSETFROM:+0200
TZOFFSETTO:+0100
TZNAME:CET
END:STANDARD
END:VTIMEZONE
END:VCALENDAR